Workbook

Sheet 1. Points System
B2: Type of Points | C2: Match Type | D2: Result | E2: Points Awarded
B3: Qualification Points | C3: Qualifier Group Stage | D3: Win | E3: 3
B4: Qualification Points | C4: Qualifier Group Stage | D4: Draw | E4: 1
B5: Qualification Points | C5: Qualifier Group Stage | D5: Loss | E5: 0
B6: Qualification Points | C6: Qualifier Placement | D6: Win | E6: 3
B7: Qualification Points | C7: Qualifier Placement | D7: Loss | E7: 0
B8: Qualification Points | C8: Qualifier Placement in OT or Extra Throws | D8: Win | E8: 2
B9: Qualification Points | C9: Qualifier Placement in OT or Extra Throws | D9: Loss | E9: 1
B10: Qualification Points | C10: Qualifier QF/SF/Medal | D10: Win | E10: 4.5
B11: Qualification Points | C11: Qualifier QF/SF/Medal | D11: Loss | E11: 0
B12: Qualification Points | C12: Qualifier QF/SF/Medal in OT or Extra Throws | D12: Win | E12: 3
B13: Qualification Points | C13: Qualifier QF/SF/Medal in OT or Extra Throws | D13: Loss | E13: 1.5
B14: Finals Points | C14: Finals Group Stage | D14: Win | E14: 4.5
... B24: Finals Points | C24: Finals QF/SF/Medal in OT or Extra Throws | D24: Loss | E24: 2
B25: Special Points | C25: Qualifier no QF/SF/Medal - 1st Place Compensation Points | E25: 4.5
B26: Special Points | C26: Qualifier no QF/SF/Medal - 2nd Place Compensation Points | E26: 3
B27: Special Points | C27: Qualifier no QF/SF/Medal - 3rd Place Compensation Points | E27: 1.5
B28: Special Points | C28: Host team of the current season’s Final Stage | E28: 15
B29: Special Points | C29: Host team of the Previous Season’s Final Stage | E29: 7.5

Sheet 2. 2027 Season Ranking
B2: Ranking | C2: Team | D2: Games Played | E2: Goals Made | F2: Goals Missed | G2: Goal Difference. | H2: 2027 Season Ranking Points | I2: Sum of 2027 Ranking Sort Value
B3: 1 | C3: Old Power | D3: 12 | E3: 71 | F3: 36 | G3: 35 | H3: 27.5 | I3: 27.535
B4: 2 | C4: Kahramanmaras | D4: 12 | E4: 80 | F4: 37 | G4: 43 | H4: 23.25 | I4: 23.293
B5: 3 | C5: RGC Hansa | D5: 12 | E5: 56 | F5: 46 | G5: 10 | H5: 22.25 | I5: 22.26
B6: 4 | C6: FIFH Malmo | D6: 12 | E6: 62 | F6: 51 | G6: 11 | H6: 15 | I6: 15.011
B7: 5 | C7: Füchse Berlin | D7: 12 | E7: 65 | F7: 60 | G7: 5 | H7: 15 | I7: 15.005
B8: 6 | C8: USV Hercules | D8: 11 | E8: 72 | F8: 73 | G8: -1 | H8: 8 | I8: 7.999
B9: 7 | C9: Näpäjä | D9: 6 | E9: 32 | F9: 28 | G9: 4 | H9: 6 | I9: 6.004
B10: 8 | C10: Isparta | D10: 6 | E10: 23 | F10: 46 | G10: -23 | H10: 6 | I10: 5.977
B11: 9 | C11: GC Golden Flash | D11: 12 | E11: 36 | F11: 62 | G11: -26 | H11: 4.5 | I11: 4.474
B12: 10 | C12: Kleio Thessaloniki | D12: 6 | E12: 7 | F12: 27 | G12: -20 | H12: 2.5 | I12: 2.48
B13: 11 | C13: CSAVH Lyon | D13: 5 | E13: 16 | F13: 50 | G13: -34 | H13: 0 | I13: -0.034
B14: 12
B15: 13
B16: 14
B17: 15
B18: 16
B19: 17
B20: 18
B21: 19
B22: 20
B23: 21
B24: 22
B25: 23
... B32: 30
B38: Ranking | C38: Team | D38: Games Played | E38: Goals Scored | F38: Goals Conceded | G38: Goal Difference. | H38: Average Goal Difference per Game | I38: 2027 Season Ranking Points | J38: Sum of 2027 Ranking Sort Value
B39: =IF($C3="","",$B3) -> 1 | C39: =IF($C3="","",$C3) -> Old Power | D39: =IF($C3="","",$D3) -> 12 | E39: =IF($C3="","",$E3) -> 71 | F39: =IF($C3="","",$F3) -> 36 | G39: =IF($C3="","",$G3) -> 35 | H39: =IF($C3="","",IFERROR($G3/$D3,0)) -> 2.9166667 | I39: =IF($C3="","",$H3) -> 27.5 | J39: =IF($C3="","",$I3) -> 27.535
B40: =IF($C4="","",$B4) -> 2 | C40: =IF($C4="","",$C4) -> Kahramanmaras | D40: =IF($C4="","",$D4) -> 12 | E40: =IF($C4="","",$E4) -> 80 | F40: =IF($C4="","",$F4) -> 37 | G40: =IF($C4="","",$G4) -> 43 | H40: =IF($C4="","",IFERROR($G4/$D4,0)) -> 3.5833333 | I40: =IF($C4="","",$H4) -> 23.25 | J40: =IF($C4="","",$I4) -> 23.293
B41: =IF($C5="","",$B5) -> 3 | C41: =IF($C5="","",$C5) -> RGC Hansa | D41: =IF($C5="","",$D5) -> 12 | E41: =IF($C5="","",$E5) -> 56 | F41: =IF($C5="","",$F5) -> 46 | G41: =IF($C5="","",$G5) -> 10 | H41: =IF($C5="","",IFERROR($G5/$D5,0)) -> 0.83333333 | I41: =IF($C5="","",$H5) -> 22.25 | J41: =IF($C5="","",$I5) -> 22.26
B42: =IF($C6="","",$B6) -> 4 | C42: =IF($C6="","",$C6) -> FIFH Malmo | D42: =IF($C6="","",$D6) -> 12 | E42: =IF($C6="","",$E6) -> 62 | F42: =IF($C6="","",$F6) -> 51 | G42: =IF($C6="","",$G6) -> 11 | H42: =IF($C6="","",IFERROR($G6/$D6,0)) -> 0.91666667 | I42: =IF($C6="","",$H6) -> 15 | J42: =IF($C6="","",$I6) -> 15.011
B43: =IF($C7="","",$B7) -> 5 | C43: =IF($C7="","",$C7) -> Füchse Berlin | D43: =IF($C7="","",$D7) -> 12 | E43: =IF($C7="","",$E7) -> 65 | F43: =IF($C7="","",$F7) -> 60 | G43: =IF($C7="","",$G7) -> 5 | H43: =IF($C7="","",IFERROR($G7/$D7,0)) -> 0.41666667 | I43: =IF($C7="","",$H7) -> 15 | J43: =IF($C7="","",$I7) -> 15.005
B44: =IF($C8="","",$B8) -> 6 | C44: =IF($C8="","",$C8) -> USV Hercules | D44: =IF($C8="","",$D8) -> 11 | E44: =IF($C8="","",$E8) -> 72 | F44: =IF($C8="","",$F8) -> 73 | G44: =IF($C8="","",$G8) -> -1 | H44: =IF($C8="","",IFERROR($G8/$D8,0)) -> -0.090909091 | I44: =IF($C8="","",$H8) -> 8 | J44: =IF($C8="","",$I8) -> 7.999
B45: =IF($C9="","",$B9) -> 7 | C45: =IF($C9="","",$C9) -> Näpäjä | D45: =IF($C9="","",$D9) -> 6 | E45: =IF($C9="","",$E9) -> 32 | F45: =IF($C9="","",$F9) -> 28 | G45: =IF($C9="","",$G9) -> 4 | H45: =IF($C9="","",IFERROR($G9/$D9,0)) -> 0.66666667 | I45: =IF($C9="","",$H9) -> 6 | J45: =IF($C9="","",$I9) -> 6.004
B46: =IF($C10="","",$B10) -> 8 | C46: =IF($C10="","",$C10) -> Isparta | D46: =IF($C10="","",$D10) -> 6 | E46: =IF($C10="","",$E10) -> 23 | F46: =IF($C10="","",$F10) -> 46 | G46: =IF($C10="","",$G10) -> -23 | H46: =IF($C10="","",IFERROR($G10/$D10,0)) -> -3.8333333 | I46: =IF($C10="","",$H10) -> 6 | J46: =IF($C10="","",$I10) -> 5.977
B47: =IF($C11="","",$B11) -> 9 | C47: =IF($C11="","",$C11) -> GC Golden Flash | D47: =IF($C11="","",$D11) -> 12 | E47: =IF($C11="","",$E11) -> 36 | F47: =IF($C11="","",$F11) -> 62 | G47: =IF($C11="","",$G11) -> -26 | H47: =IF($C11="","",IFERROR($G11/$D11,0)) -> -2.1666667 | I47: =IF($C11="","",$H11) -> 4.5 | J47: =IF($C11="","",$I11) -> 4.474
B48: =IF($C12="","",$B12) -> 10 | C48: =IF($C12="","",$C12) -> Kleio Thessaloniki | D48: =IF($C12="","",$D12) -> 6 | E48: =IF($C12="","",$E12) -> 7 | F48: =IF($C12="","",$F12) -> 27 | G48: =IF($C12="","",$G12) -> -20 | H48: =IF($C12="","",IFERROR($G12/$D12,0)) -> -3.3333333 | I48: =IF($C12="","",$H12) -> 2.5 | J48: =IF($C12="","",$I12) -> 2.48
B49: =IF($C13="","",$B13) -> 11 | C49: =IF($C13="","",$C13) -> CSAVH Lyon | D49: =IF($C13="","",$D13) -> 5 | E49: =IF($C13="","",$E13) -> 16 | F49: =IF($C13="","",$F13) -> 50 | G49: =IF($C13="","",$G13) -> -34 | H49: =IF($C13="","",IFERROR($G13/$D13,0)) -> -6.8 | I49: =IF($C13="","",$H13) -> 0 | J49: =IF($C13="","",$I13) -> -0.034
B50: =IF($C14="","",$B14) | C50: =IF($C14="","",$C14) | D50: =IF($C14="","",$D14) | E50: =IF($C14="","",$E14) | F50: =IF($C14="","",$F14) | G50: =IF($C14="","",$G14) | H50: =IF($C14="","",IFERROR($G14/$D14,0)) | I50: =IF($C14="","",$H14) | J50: =IF($C14="","",$I14)
... B69: =IF($C33="","",$B33) | C69: =IF($C33="","",$C33) | D69: =IF($C33="","",$D33) | E69: =IF($C33="","",$E33) | F69: =IF($C33="","",$F33) | G69: =IF($C33="","",$G33) | H69: =IF($C33="","",IFERROR($G33/$D33,0)) | I69: =IF($C33="","",$H33) | J69: =IF($C33="","",$I33)

Sheet 3. Points Awarded By Team
B2: Team | C2: Old Power
B4: Event | C4: Ranking Points
B5: 2025 EWCL | C5: 10
B6: 2026 EWCL | C6: 22.5
B7: Group | C7: 9
B8: Old Power – USV Hercules 8-5 | C8: 3
B9: Isparta – Old Power 5-10 | C9: 3
B10: Füchse Berlin – Old Power 0-10 | C10: 3
B11: QF | C11: 4.5
B12: Old Power – GC Golden Flash 9-4 | C12: 4.5
B13: SF | C13: 4.5
B14: Old Power – FIFH Malmo 3-1 | C14: 4.5
B15: Medal | C15: 4.5
B16: Old Power – Kahramanmaras 2-1 | C16: 4.5

Sheet Scoring_Goal Difference
B2: Event | C2: (All)
B3: Location | C3: (All)
B5: Row Labels | C5: Sum of Scored | D5: Sum of Let In | E5: Sum of Goal Difference
B6: Aarhus Goalball | C6: 89 | D6: 75 | E6: 14
B7: Aisti Sport | C7: 47 | D7: 27 | E7: 20
B8: ASCND Marseille | C8: 48 | D8: 59 | E8: -11
B9: ASD Omero Bergamo | C9: 68 | D9: 94 | E9: -26
B10: BRUK-BET Termalica Krakow | C10: 196 | D10: 140 | E10: 56
B11: BSI Copenhagen | C11: 87 | D11: 102 | E11: -15
B12: CA Cultural | C12: 50 | D12: 22 | E12: 28
B13: Cankaya | C13: 58 | D13: 34 | E13: 24
B14: Club Fenix | C14: 18 | D14: 76 | E14: -58
B15: CSAVH Lyon | C15: 92 | D15: 103 | E15: -11
B16: FC Porto | C16: 77 | D16: 82 | E16: -5
B17: Fen Tigers | C17: 72 | D17: 79 | E17: -7
... B35: SSG Blista Marburg | C35: 87 | D35: 90 | E35: -3

Sheet Naming Conventions
B2: Team
B3: Aarhus Goalball
B4: Aisti Sport
B5: ASCND Marseille
B6: ASD Omero Bergamo
B7: BRUK-BET Termalica Krakow
B8: BSI Copenhagen
B9: CA Cultural
B10: Cankaya
B11: Club Fenix
B12: CSAVH Lyon
B13: FC Porto
... B36: USV Hercules

Sheet 4. Master Data
A2: Event | B2: Location | C2: Team | D2: Match ID | E2: Match Result | F2: Goals Scored | G2: Goals Conceded | H2: Goal Difference | I2: 1st Team | J2: Score | K2: 1st Goal Number | L2: 2nd Goal Number | M2: Game for Average GD? | N2: Event Stage | O2: Match Type | P2: Result | Q2: Points | R2: 2025 Total Points | S2: 2026 Total Points | T2: 2027 Total Points | U2: 2027 Ranking Sort Value
A3: 2025 EWCL | B3: Berlin | C3: USV Hercules | D3: 25_BE_G01 | E3: USV Hercules – Old Power 8-14 | F3: =IF($I3="","",IF(TRIM(SUBSTITUTE($C3,CHAR(160)," "))=TRIM(SUBSTITUTE($I3,CHAR(160)," ")),$K3,$L3)) -> 8 | G3: =IF($I3="","",IF(TRIM(SUBSTITUTE($C3,CHAR(160)," "))=TRIM(SUBSTITUTE($I3,CHAR(160)," ")),$L3,$K3)) -> 14 | H3: =F3-G3 -> -6 | I3: =TRIM(LEFT(E3,FIND(" – ",E3)-1)) -> USV Hercules | J3: {=TRIM(RIGHT(E3,LEN(E3)-LOOKUP(2,1/(MID(E3,ROW($1:$60),1)=" "),ROW($1:$60))))} -> 8-14 | K3: =VALUE(LEFT(J3,FIND("-",SUBSTITUTE(J3,":","-"))-1)) -> 8 | L3: =VALUE(RIGHT(SUBSTITUTE(J3,":","-"),LEN(SUBSTITUTE(J3,":","-"))-FIND("-",SUBSTITUTE(J3,":","-")))) -> 14 | M3: =IF(OR(O3="",ISNUMBER(IFERROR(SEARCH("special",O3),""))),0,1) -> 1 | N3: Group | O3: Qualifier Group Stage | P3: Loss | Q3: =IF(OR(O3="",P3=""),"",SUMIFS('1. Points System'!$E$3:$E$24,'1. Points System'!$C$3:$C$24,O3,'1. Points System'!$D$3:$D$24,P3)) -> 0 | R3: =Q3 -> 0 | S3: =R3/2 -> 0 | U3: =MasterDataTbl[[#This Row],[2026 Total Points]]+(MasterDataTbl[[#This Row],[Goal Difference]]/1000) -> -0.006
A4: 2025 EWCL | B4: Berlin | C4: Old Power | D4: 25_BE_G01 | E4: USV Hercules – Old Power 8-14 | F4: =IF($I4="","",IF(TRIM(SUBSTITUTE($C4,CHAR(160)," "))=TRIM(SUBSTITUTE($I4,CHAR(160)," ")),$K4,$L4)) -> 14 | G4: =IF($I4="","",IF(TRIM(SUBSTITUTE($C4,CHAR(160)," "))=TRIM(SUBSTITUTE($I4,CHAR(160)," ")),$L4,$K4)) -> 8 | H4: =F4-G4 -> 6 | I4: =TRIM(LEFT(E4,FIND(" – ",E4)-1)) -> USV Hercules | J4: {=TRIM(RIGHT(E4,LEN(E4)-LOOKUP(2,1/(MID(E4,ROW($1:$60),1)=" "),ROW($1:$60))))} -> 8-14 | K4: =VALUE(LEFT(J4,FIND("-",SUBSTITUTE(J4,":","-"))-1)) -> 8 | L4: =VALUE(RIGHT(SUBSTITUTE(J4,":","-"),LEN(SUBSTITUTE(J4,":","-"))-FIND("-",SUBSTITUTE(J4,":","-")))) -> 14 | M4: =IF(OR(O4="",ISNUMBER(IFERROR(SEARCH("special",O4),""))),0,1) -> 1 | N4: Group | O4: Qualifier Group Stage | P4: Win | Q4: =IF(OR(O4="",P4=""),"",SUMIFS('1. Points System'!$E$3:$E$24,'1. Points System'!$C$3:$C$24,O4,'1. Points System'!$D$3:$D$24,P4)) -> 3 | R4: =Q4 -> 3 | S4: =R4/2 -> 1.5 | U4: =MasterDataTbl[[#This Row],[2026 Total Points]]+(MasterDataTbl[[#This Row],[Goal Difference]]/1000) -> 1.506
A5: 2025 EWCL | B5: Berlin | C5: RGC Hansa | D5: 25_BE_G02 | E5: RGC Hansa – GC Golden Flash 4-1 | F5: =IF($I5="","",IF(TRIM(SUBSTITUTE($C5,CHAR(160)," "))=TRIM(SUBSTITUTE($I5,CHAR(160)," ")),$K5,$L5)) -> 4 | G5: =IF($I5="","",IF(TRIM(SUBSTITUTE($C5,CHAR(160)," "))=TRIM(SUBSTITUTE($I5,CHAR(160)," ")),$L5,$K5)) -> 1 | H5: =F5-G5 -> 3 | I5: =TRIM(LEFT(E5,FIND(" – ",E5)-1)) -> RGC Hansa | J5: {=TRIM(RIGHT(E5,LEN(E5)-LOOKUP(2,1/(MID(E5,ROW($1:$60),1)=" "),ROW($1:$60))))} -> 4-1 | K5: =VALUE(LEFT(J5,FIND("-",SUBSTITUTE(J5,":","-"))-1)) -> 4 | L5: =VALUE(RIGHT(SUBSTITUTE(J5,":","-"),LEN(SUBSTITUTE(J5,":","-"))-FIND("-",SUBSTITUTE(J5,":","-")))) -> 1 | M5: =IF(OR(O5="",ISNUMBER(IFERROR(SEARCH("special",O5),""))),0,1) -> 1 | N5: Group | O5: Qualifier Group Stage | P5: Win | Q5: =IF(OR(O5="",P5=""),"",SUMIFS('1. Points System'!$E$3:$E$24,'1. Points System'!$C$3:$C$24,O5,'1. Points System'!$D$3:$D$24,P5)) -> 3 | R5: =Q5 -> 3 | S5: =R5/2 -> 1.5 | U5: =MasterDataTbl[[#This Row],[2026 Total Points]]+(MasterDataTbl[[#This Row],[Goal Difference]]/1000) -> 1.503
A6: 2025 EWCL | B6: Berlin | C6: GC Golden Flash | D6: 25_BE_G02 | E6: RGC Hansa – GC Golden Flash 4-1 | F6: =IF($I6="","",IF(TRIM(SUBSTITUTE($C6,CHAR(160)," "))=TRIM(SUBSTITUTE($I6,CHAR(160)," ")),$K6,$L6)) -> 1 | G6: =IF($I6="","",IF(TRIM(SUBSTITUTE($C6,CHAR(160)," "))=TRIM(SUBSTITUTE($I6,CHAR(160)," ")),$L6,$K6)) -> 4 | H6: =F6-G6 -> -3 | I6: =TRIM(LEFT(E6,FIND(" – ",E6)-1)) -> RGC Hansa | J6: {=TRIM(RIGHT(E6,LEN(E6)-LOOKUP(2,1/(MID(E6,ROW($1:$60),1)=" "),ROW($1:$60))))} -> 4-1 | K6: =VALUE(LEFT(J6,FIND("-",SUBSTITUTE(J6,":","-"))-1)) -> 4 | L6: =VALUE(RIGHT(SUBSTITUTE(J6,":","-"),LEN(SUBSTITUTE(J6,":","-"))-FIND("-",SUBSTITUTE(J6,":","-")))) -> 1 | M6: =IF(OR(O6="",ISNUMBER(IFERROR(SEARCH("special",O6),""))),0,1) -> 1 | N6: Group | O6: Qualifier Group Stage | P6: Loss | Q6: =IF(OR(O6="",P6=""),"",SUMIFS('1. Points System'!$E$3:$E$24,'1. Points System'!$C$3:$C$24,O6,'1. Points System'!$D$3:$D$24,P6)) -> 0 | R6: =Q6 -> 0 | S6: =R6/2 -> 0 | U6: =MasterDataTbl[[#This Row],[2026 Total Points]]+(MasterDataTbl[[#This Row],[Goal Difference]]/1000) -> -0.003
A7: 2025 EWCL | B7: Berlin | C7: CSAVH Lyon | D7: 25_BE_G03 | E7: CSAVH Lyon – Näpäjä 5-12 | F7: =IF($I7="","",IF(TRIM(SUBSTITUTE($C7,CHAR(160)," "))=TRIM(SUBSTITUTE($I7,CHAR(160)," ")),$K7,$L7)) -> 5 | G7: =IF($I7="","",IF(TRIM(SUBSTITUTE($C7,CHAR(160)," "))=TRIM(SUBSTITUTE($I7,CHAR(160)," ")),$L7,$K7)) -> 12 | H7: =F7-G7 -> -7 | I7: =TRIM(LEFT(E7,FIND(" – ",E7)-1)) -> CSAVH Lyon | J7: {=TRIM(RIGHT(E7,LEN(E7)-LOOKUP(2,1/(MID(E7,ROW($1:$60),1)=" "),ROW($1:$60))))} -> 5-12 | K7: =VALUE(LEFT(J7,FIND("-",SUBSTITUTE(J7,":","-"))-1)) -> 5 | L7: =VALUE(RIGHT(SUBSTITUTE(J7,":","-"),LEN(SUBSTITUTE(J7,":","-"))-FIND("-",SUBSTITUTE(J7,":","-")))) -> 12 | M7: =IF(OR(O7="",ISNUMBER(IFERROR(SEARCH("special",O7),""))),0,1) -> 1 | N7: Group | O7: Qualifier Group Stage | P7: Loss | Q7: =IF(OR(O7="",P7=""),"",SUMIFS('1. Points System'!$E$3:$E$24,'1. Points System'!$C$3:$C$24,O7,'1. Points System'!$D$3:$D$24,P7)) -> 0 | R7: =Q7 -> 0 | S7: =R7/2 -> 0 | U7: =MasterDataTbl[[#This Row],[2026 Total Points]]+(MasterDataTbl[[#This Row],[Goal Difference]]/1000) -> -0.007
A8: 2025 EWCL | B8: Berlin | C8: Näpäjä | D8: 25_BE_G03 | E8: CSAVH Lyon – Näpäjä 5-12 | F8: =IF($I8="","",IF(TRIM(SUBSTITUTE($C8,CHAR(160)," "))=TRIM(SUBSTITUTE($I8,CHAR(160)," ")),$K8,$L8)) -> 12 | G8: =IF($I8="","",IF(TRIM(SUBSTITUTE($C8,CHAR(160)," "))=TRIM(SUBSTITUTE($I8,CHAR(160)," ")),$L8,$K8)) -> 5 | H8: =F8-G8 -> 7 | I8: =TRIM(LEFT(E8,FIND(" – ",E8)-1)) -> CSAVH Lyon | J8: {=TRIM(RIGHT(E8,LEN(E8)-LOOKUP(2,1/(MID(E8,ROW($1:$60),1)=" "),ROW($1:$60))))} -> 5-12 | K8: =VALUE(LEFT(J8,FIND("-",SUBSTITUTE(J8,":","-"))-1)) -> 5 | L8: =VALUE(RIGHT(SUBSTITUTE(J8,":","-"),LEN(SUBSTITUTE(J8,":","-"))-FIND("-",SUBSTITUTE(J8,":","-")))) -> 12 | M8: =IF(OR(O8="",ISNUMBER(IFERROR(SEARCH("special",O8),""))),0,1) -> 1 | N8: Group | O8: Qualifier Group Stage | P8: Win | Q8: =IF(OR(O8="",P8=""),"",SUMIFS('1. Points System'!$E$3:$E$24,'1. Points System'!$C$3:$C$24,O8,'1. Points System'!$D$3:$D$24,P8)) -> 3 | R8: =Q8 -> 3 | S8: =R8/2 -> 1.5 | U8: =MasterDataTbl[[#This Row],[2026 Total Points]]+(MasterDataTbl[[#This Row],[Goal Difference]]/1000) -> 1.507
A9: 2025 EWCL | B9: Berlin | C9: Füchse Berlin | D9: 25_BE_G04 | E9: Füchse Berlin – Kleio Thessaloniki 8-1 | F9: =IF($I9="","",IF(TRIM(SUBSTITUTE($C9,CHAR(160)," "))=TRIM(SUBSTITUTE($I9,CHAR(160)," ")),$K9,$L9)) -> 8 | G9: =IF($I9="","",IF(TRIM(SUBSTITUTE($C9,CHAR(160)," "))=TRIM(SUBSTITUTE($I9,CHAR(160)," ")),$L9,$K9)) -> 1 | H9: =F9-G9 -> 7 | I9: =TRIM(LEFT(E9,FIND(" – ",E9)-1)) -> Füchse Berlin | J9: {=TRIM(RIGHT(E9,LEN(E9)-LOOKUP(2,1/(MID(E9,ROW($1:$60),1)=" "),ROW($1:$60))))} -> 8-1 | K9: =VALUE(LEFT(J9,FIND("-",SUBSTITUTE(J9,":","-"))-1)) -> 8 | L9: =VALUE(RIGHT(SUBSTITUTE(J9,":","-"),LEN(SUBSTITUTE(J9,":","-"))-FIND("-",SUBSTITUTE(J9,":","-")))) -> 1 | M9: =IF(OR(O9="",ISNUMBER(IFERROR(SEARCH("special",O9),""))),0,1) -> 1 | N9: Group | O9: Qualifier Group Stage | P9: Win | Q9: =IF(OR(O9="",P9=""),"",SUMIFS('1. Points System'!$E$3:$E$24,'1. Points System'!$C$3:$C$24,O9,'1. Points System'!$D$3:$D$24,P9)) -> 3 | R9: =Q9 -> 3 | S9: =R9/2 -> 1.5 | U9: =MasterDataTbl[[#This Row],[2026 Total Points]]+(MasterDataTbl[[#This Row],[Goal Difference]]/1000) -> 1.507
A10: 2025 EWCL | B10: Berlin | C10: Kleio Thessaloniki | D10: 25_BE_G04 | E10: Füchse Berlin – Kleio Thessaloniki 8-1 | F10: =IF($I10="","",IF(TRIM(SUBSTITUTE($C10,CHAR(160)," "))=TRIM(SUBSTITUTE($I10,CHAR(160)," ")),$K10,$L10)) -> 1 | G10: =IF($I10="","",IF(TRIM(SUBSTITUTE($C10,CHAR(160)," "))=TRIM(SUBSTITUTE($I10,CHAR(160)," ")),$L10,$K10)) -> 8 | H10: =F10-G10 -> -7 | I10: =TRIM(LEFT(E10,FIND(" – ",E10)-1)) -> Füchse Berlin | J10: {=TRIM(RIGHT(E10,LEN(E10)-LOOKUP(2,1/(MID(E10,ROW($1:$60),1)=" "),ROW($1:$60))))} -> 8-1 | K10: =VALUE(LEFT(J10,FIND("-",SUBSTITUTE(J10,":","-"))-1)) -> 8 | L10: =VALUE(RIGHT(SUBSTITUTE(J10,":","-"),LEN(SUBSTITUTE(J10,":","-"))-FIND("-",SUBSTITUTE(J10,":","-")))) -> 1 | M10: =IF(OR(O10="",ISNUMBER(IFERROR(SEARCH("special",O10),""))),0,1) -> 1 | N10: Group | O10: Qualifier Group Stage | P10: Loss | Q10: =IF(OR(O10="",P10=""),"",SUMIFS('1. Points System'!$E$3:$E$24,'1. Points System'!$C$3:$C$24,O10,'1. Points System'!$D$3:$D$24,P10)) -> 0 | R10: =Q10 -> 0 | S10: =R10/2 -> 0 | U10: =MasterDataTbl[[#This Row],[2026 Total Points]]+(MasterDataTbl[[#This Row],[Goal Difference]]/1000) -> -0.007
A11: 2025 EWCL | B11: Berlin | C11: FIFH Malmo | D11: 25_BE_G05 | E11: FIFH Malmo – USV Hercules 8-6 | F11: =IF($I11="","",IF(TRIM(SUBSTITUTE($C11,CHAR(160)," "))=TRIM(SUBSTITUTE($I11,CHAR(160)," ")),$K11,$L11)) -> 8 | G11: =IF($I11="","",IF(TRIM(SUBSTITUTE($C11,CHAR(160)," "))=TRIM(SUBSTITUTE($I11,CHAR(160)," ")),$L11,$K11)) -> 6 | H11: =F11-G11 -> 2 | I11: =TRIM(LEFT(E11,FIND(" – ",E11)-1)) -> FIFH Malmo | J11: {=TRIM(RIGHT(E11,LEN(E11)-LOOKUP(2,1/(MID(E11,ROW($1:$60),1)=" "),ROW($1:$60))))} -> 8-6 | K11: =VALUE(LEFT(J11,FIND("-",SUBSTITUTE(J11,":","-"))-1)) -> 8 | L11: =VALUE(RIGHT(SUBSTITUTE(J11,":","-"),LEN(SUBSTITUTE(J11,":","-"))-FIND("-",SUBSTITUTE(J11,":","-")))) -> 6 | M11: =IF(OR(O11="",ISNUMBER(IFERROR(SEARCH("special",O11),""))),0,1) -> 1 | N11: Group | O11: Qualifier Group Stage | P11: Win | Q11: =IF(OR(O11="",P11=""),"",SUMIFS('1. Points System'!$E$3:$E$24,'1. Points System'!$C$3:$C$24,O11,'1. Points System'!$D$3:$D$24,P11)) -> 3 | R11: =Q11 -> 3 | S11: =R11/2 -> 1.5 | U11: =MasterDataTbl[[#This Row],[2026 Total Points]]+(MasterDataTbl[[#This Row],[Goal Difference]]/1000) -> 1.502
A12: 2025 EWCL | B12: Berlin | C12: USV Hercules | D12: 25_BE_G05 | E12: FIFH Malmo – USV Hercules 8-6 | F12: =IF($I12="","",IF(TRIM(SUBSTITUTE($C12,CHAR(160)," "))=TRIM(SUBSTITUTE($I12,CHAR(160)," ")),$K12,$L12)) -> 6 | G12: =IF($I12="","",IF(TRIM(SUBSTITUTE($C12,CHAR(160)," "))=TRIM(SUBSTITUTE($I12,CHAR(160)," ")),$L12,$K12)) -> 8 | H12: =F12-G12 -> -2 | I12: =TRIM(LEFT(E12,FIND(" – ",E12)-1)) -> FIFH Malmo | J12: {=TRIM(RIGHT(E12,LEN(E12)-LOOKUP(2,1/(MID(E12,ROW($1:$60),1)=" "),ROW($1:$60))))} -> 8-6 | K12: =VALUE(LEFT(J12,FIND("-",SUBSTITUTE(J12,":","-"))-1)) -> 8 | L12: =VALUE(RIGHT(SUBSTITUTE(J12,":","-"),LEN(SUBSTITUTE(J12,":","-"))-FIND("-",SUBSTITUTE(J12,":","-")))) -> 6 | M12: =IF(OR(O12="",ISNUMBER(IFERROR(SEARCH("special",O12),""))),0,1) -> 1 | N12: Group | O12: Qualifier Group Stage | P12: Loss | Q12: =IF(OR(O12="",P12=""),"",SUMIFS('1. Points System'!$E$3:$E$24,'1. Points System'!$C$3:$C$24,O12,'1. Points System'!$D$3:$D$24,P12)) -> 0 | R12: =Q12 -> 0 | S12: =R12/2 -> 0 | U12: =MasterDataTbl[[#This Row],[2026 Total Points]]+(MasterDataTbl[[#This Row],[Goal Difference]]/1000) -> -0.002
A13: 2025 EWCL | B13: Berlin | C13: Old Power | D13: 25_BE_G06 | E13: Old Power – RGC Hansa 2-3 | F13: =IF($I13="","",IF(TRIM(SUBSTITUTE($C13,CHAR(160)," "))=TRIM(SUBSTITUTE($I13,CHAR(160)," ")),$K13,$L13)) -> 2 | G13: =IF($I13="","",IF(TRIM(SUBSTITUTE($C13,CHAR(160)," "))=TRIM(SUBSTITUTE($I13,CHAR(160)," ")),$L13,$K13)) -> 3 | H13: =F13-G13 -> -1 | I13: =TRIM(LEFT(E13,FIND(" – ",E13)-1)) -> Old Power | J13: {=TRIM(RIGHT(E13,LEN(E13)-LOOKUP(2,1/(MID(E13,ROW($1:$60),1)=" "),ROW($1:$60))))} -> 2-3 | K13: =VALUE(LEFT(J13,FIND("-",SUBSTITUTE(J13,":","-"))-1)) -> 2 | L13: =VALUE(RIGHT(SUBSTITUTE(J13,":","-"),LEN(SUBSTITUTE(J13,":","-"))-FIND("-",SUBSTITUTE(J13,":","-")))) -> 3 | M13: =IF(OR(O13="",ISNUMBER(IFERROR(SEARCH("special",O13),""))),0,1) -> 1 | N13: Group | O13: Qualifier Group Stage | P13: Loss | Q13: =IF(OR(O13="",P13=""),"",SUMIFS('1. Points System'!$E$3:$E$24,'1. Points System'!$C$3:$C$24,O13,'1. Points System'!$D$3:$D$24,P13)) -> 0 | R13: =Q13 -> 0 | S13: =R13/2 -> 0 | U13: =MasterDataTbl[[#This Row],[2026 Total Points]]+(MasterDataTbl[[#This Row],[Goal Difference]]/1000) -> -0.001
A14: 2025 EWCL | B14: Berlin | C14: RGC Hansa | D14: 25_BE_G06 | E14: Old Power – RGC Hansa 2-3 | F14: =IF($I14="","",IF(TRIM(SUBSTITUTE($C14,CHAR(160)," "))=TRIM(SUBSTITUTE($I14,CHAR(160)," ")),$K14,$L14)) -> 3 | G14: =IF($I14="","",IF(TRIM(SUBSTITUTE($C14,CHAR(160)," "))=TRIM(SUBSTITUTE($I14,CHAR(160)," ")),$L14,$K14)) -> 2 | H14: =F14-G14 -> 1 | I14: =TRIM(LEFT(E14,FIND(" – ",E14)-1)) -> Old Power | J14: {=TRIM(RIGHT(E14,LEN(E14)-LOOKUP(2,1/(MID(E14,ROW($1:$60),1)=" "),ROW($1:$60))))} -> 2-3 | K14: =VALUE(LEFT(J14,FIND("-",SUBSTITUTE(J14,":","-"))-1)) -> 2 | L14: =VALUE(RIGHT(SUBSTITUTE(J14,":","-"),LEN(SUBSTITUTE(J14,":","-"))-FIND("-",SUBSTITUTE(J14,":","-")))) -> 3 | M14: =IF(OR(O14="",ISNUMBER(IFERROR(SEARCH("special",O14),""))),0,1) -> 1 | N14: Group | O14: Qualifier Group Stage | P14: Win | Q14: =IF(OR(O14="",P14=""),"",SUMIFS('1. Points System'!$E$3:$E$24,'1. Points System'!$C$3:$C$24,O14,'1. Points System'!$D$3:$D$24,P14)) -> 3 | R14: =Q14 -> 3 | S14: =R14/2 -> 1.5 | U14: =MasterDataTbl[[#This Row],[2026 Total Points]]+(MasterDataTbl[[#This Row],[Goal Difference]]/1000) -> 1.501
... A60: 2025 EWCL | B60: Berlin | C60: Kahramanmaras | D60: 25_BE_G29 | E60: Füchse Berlin – Kahramanmaras 4-1 | F60: =IF($I60="","",IF(TRIM(SUBSTITUTE($C60,CHAR(160)," "))=TRIM(SUBSTITUTE($I60,CHAR(160)," ")),$K60,$L60)) -> 1 | G60: =IF($I60="","",IF(TRIM(SUBSTITUTE($C60,CHAR(160)," "))=TRIM(SUBSTITUTE($I60,CHAR(160)," ")),$L60,$K60)) -> 4 | H60: =F60-G60 -> -3 | I60: =TRIM(LEFT(E60,FIND(" – ",E60)-1)) -> Füchse Berlin | J60: {=TRIM(RIGHT(E60,LEN(E60)-LOOKUP(2,1/(MID(E60,ROW($1:$60),1)=" "),ROW($1:$60))))} -> 4-1 | K60: =VALUE(LEFT(J60,FIND("-",SUBSTITUTE(J60,":","-"))-1)) -> 4 | L60: =VALUE(RIGHT(SUBSTITUTE(J60,":","-"),LEN(SUBSTITUTE(J60,":","-"))-FIND("-",SUBSTITUTE(J60,":","-")))) -> 1 | M60: =IF(OR(O60="",ISNUMBER(IFERROR(SEARCH("special",O60),""))),0,1) -> 1 | N60: Medal | O60: Qualifier QF/SF/Medal | P60: Loss | Q60: =IF(OR(O60="",P60=""),"",SUMIFS('1. Points System'!$E$3:$E$24,'1. Points System'!$C$3:$C$24,O60,'1. Points System'!$D$3:$D$24,P60)) -> 0 | R60: =Q60 -> 0 | S60: =R60/2 -> 0 | U60: =MasterDataTbl[[#This Row],[2026 Total Points]]+(MasterDataTbl[[#This Row],[Goal Difference]]/1000) -> -0.003
A61: 2026 EWCL | B61: Rostock | C61: FIFH Malmo | D61: 26_RS_G01 | E61: FIFH Malmo – GC Golden Flash 9-4 | F61: =IF($I61="","",IF(TRIM(SUBSTITUTE($C61,CHAR(160)," "))=TRIM(SUBSTITUTE($I61,CHAR(160)," ")),$K61,$L61)) -> 9 | G61: =IF($I61="","",IF(TRIM(SUBSTITUTE($C61,CHAR(160)," "))=TRIM(SUBSTITUTE($I61,CHAR(160)," ")),$L61,$K61)) -> 4 | H61: =F61-G61 -> 5 | I61: =TRIM(LEFT(E61,FIND(" – ",E61)-1)) -> FIFH Malmo | J61: {=TRIM(RIGHT(E61,LEN(E61)-LOOKUP(2,1/(MID(E61,ROW($1:$60),1)=" "),ROW($1:$60))))} -> 9-4 | K61: =VALUE(LEFT(J61,FIND("-",SUBSTITUTE(J61,":","-"))-1)) -> 9 | L61: =VALUE(RIGHT(SUBSTITUTE(J61,":","-"),LEN(SUBSTITUTE(J61,":","-"))-FIND("-",SUBSTITUTE(J61,":","-")))) -> 4 | M61: =IF(OR(O61="",ISNUMBER(IFERROR(SEARCH("special",O61),""))),0,1) -> 1 | N61: Group | O61: Qualifier Group Stage | P61: Win | Q61: =IF(OR(O61="",P61=""),"",SUMIFS('1. Points System'!$E$3:$E$24,'1. Points System'!$C$3:$C$24,O61,'1. Points System'!$D$3:$D$24,P61)) -> 3 | S61: =Q61 -> 3 | T61: =S61/2 -> 1.5 | U61: =MasterDataTbl[[#This Row],[2026 Total Points]]+(MasterDataTbl[[#This Row],[Goal Difference]]/1000) -> 3.005
A62: 2026 EWCL | B62: Rostock | C62: GC Golden Flash | D62: 26_RS_G01 | E62: FIFH Malmo – GC Golden Flash 9-4 | F62: =IF($I62="","",IF(TRIM(SUBSTITUTE($C62,CHAR(160)," "))=TRIM(SUBSTITUTE($I62,CHAR(160)," ")),$K62,$L62)) -> 4 | G62: =IF($I62="","",IF(TRIM(SUBSTITUTE($C62,CHAR(160)," "))=TRIM(SUBSTITUTE($I62,CHAR(160)," ")),$L62,$K62)) -> 9 | H62: =F62-G62 -> -5 | I62: =TRIM(LEFT(E62,FIND(" – ",E62)-1)) -> FIFH Malmo | J62: {=TRIM(RIGHT(E62,LEN(E62)-LOOKUP(2,1/(MID(E62,ROW($1:$60),1)=" "),ROW($1:$60))))} -> 9-4 | K62: =VALUE(LEFT(J62,FIND("-",SUBSTITUTE(J62,":","-"))-1)) -> 9 | L62: =VALUE(RIGHT(SUBSTITUTE(J62,":","-"),LEN(SUBSTITUTE(J62,":","-"))-FIND("-",SUBSTITUTE(J62,":","-")))) -> 4 | M62: =IF(OR(O62="",ISNUMBER(IFERROR(SEARCH("special",O62),""))),0,1) -> 1 | N62: Group | O62: Qualifier Group Stage | P62: Loss | Q62: =IF(OR(O62="",P62=""),"",SUMIFS('1. Points System'!$E$3:$E$24,'1. Points System'!$C$3:$C$24,O62,'1. Points System'!$D$3:$D$24,P62)) -> 0 | S62: =Q62 -> 0 | T62: =S62/2 -> 0 | U62: =MasterDataTbl[[#This Row],[2026 Total Points]]+(MasterDataTbl[[#This Row],[Goal Difference]]/1000) -> -0.005
A63: 2026 EWCL | B63: Rostock | C63: Kahramanmaras | D63: 26_RS_G02 | E63: Kahramanmaras – RGC Hansa 3-5 | F63: =IF($I63="","",IF(TRIM(SUBSTITUTE($C63,CHAR(160)," "))=TRIM(SUBSTITUTE($I63,CHAR(160)," ")),$K63,$L63)) -> 3 | G63: =IF($I63="","",IF(TRIM(SUBSTITUTE($C63,CHAR(160)," "))=TRIM(SUBSTITUTE($I63,CHAR(160)," ")),$L63,$K63)) -> 5 | H63: =F63-G63 -> -2 | I63: =TRIM(LEFT(E63,FIND(" – ",E63)-1)) -> Kahramanmaras | J63: {=TRIM(RIGHT(E63,LEN(E63)-LOOKUP(2,1/(MID(E63,ROW($1:$60),1)=" "),ROW($1:$60))))} -> 3-5 | K63: =VALUE(LEFT(J63,FIND("-",SUBSTITUTE(J63,":","-"))-1)) -> 3 | L63: =VALUE(RIGHT(SUBSTITUTE(J63,":","-"),LEN(SUBSTITUTE(J63,":","-"))-FIND("-",SUBSTITUTE(J63,":","-")))) -> 5 | M63: =IF(OR(O63="",ISNUMBER(IFERROR(SEARCH("special",O63),""))),0,1) -> 1 | N63: Group | O63: Qualifier Group Stage | P63: Loss | Q63: =IF(OR(O63="",P63=""),"",SUMIFS('1. Points System'!$E$3:$E$24,'1. Points System'!$C$3:$C$24,O63,'1. Points System'!$D$3:$D$24,P63)) -> 0 | S63: =Q63 -> 0 | T63: =S63/2 -> 0 | U63: =MasterDataTbl[[#This Row],[2026 Total Points]]+(MasterDataTbl[[#This Row],[Goal Difference]]/1000) -> -0.002
A64: 2026 EWCL | B64: Rostock | C64: RGC Hansa | D64: 26_RS_G02 | E64: Kahramanmaras – RGC Hansa 3-5 | F64: =IF($I64="","",IF(TRIM(SUBSTITUTE($C64,CHAR(160)," "))=TRIM(SUBSTITUTE($I64,CHAR(160)," ")),$K64,$L64)) -> 5 | G64: =IF($I64="","",IF(TRIM(SUBSTITUTE($C64,CHAR(160)," "))=TRIM(SUBSTITUTE($I64,CHAR(160)," ")),$L64,$K64)) -> 3 | H64: =F64-G64 -> 2 | I64: =TRIM(LEFT(E64,FIND(" – ",E64)-1)) -> Kahramanmaras | J64: {=TRIM(RIGHT(E64,LEN(E64)-LOOKUP(2,1/(MID(E64,ROW($1:$60),1)=" "),ROW($1:$60))))} -> 3-5 | K64: =VALUE(LEFT(J64,FIND("-",SUBSTITUTE(J64,":","-"))-1)) -> 3 | L64: =VALUE(RIGHT(SUBSTITUTE(J64,":","-"),LEN(SUBSTITUTE(J64,":","-"))-FIND("-",SUBSTITUTE(J64,":","-")))) -> 5 | M64: =IF(OR(O64="",ISNUMBER(IFERROR(SEARCH("special",O64),""))),0,1) -> 1 | N64: Group | O64: Qualifier Group Stage | P64: Win | Q64: =IF(OR(O64="",P64=""),"",SUMIFS('1. Points System'!$E$3:$E$24,'1. Points System'!$C$3:$C$24,O64,'1. Points System'!$D$3:$D$24,P64)) -> 3 | S64: =Q64 -> 3 | T64: =S64/2 -> 1.5 | U64: =MasterDataTbl[[#This Row],[2026 Total Points]]+(MasterDataTbl[[#This Row],[Goal Difference]]/1000) -> 3.002
A65: 2026 EWCL | B65: Rostock | C65: Füchse Berlin | D65: 26_RS_G03 | E65: Füchse Berlin – Isparta 6-8 | F65: =IF($I65="","",IF(TRIM(SUBSTITUTE($C65,CHAR(160)," "))=TRIM(SUBSTITUTE($I65,CHAR(160)," ")),$K65,$L65)) -> 6 | G65: =IF($I65="","",IF(TRIM(SUBSTITUTE($C65,CHAR(160)," "))=TRIM(SUBSTITUTE($I65,CHAR(160)," ")),$L65,$K65)) -> 8 | H65: =F65-G65 -> -2 | I65: =TRIM(LEFT(E65,FIND(" – ",E65)-1)) -> Füchse Berlin | J65: {=TRIM(RIGHT(E65,LEN(E65)-LOOKUP(2,1/(MID(E65,ROW($1:$60),1)=" "),ROW($1:$60))))} -> 6-8 | K65: =VALUE(LEFT(J65,FIND("-",SUBSTITUTE(J65,":","-"))-1)) -> 6 | L65: =VALUE(RIGHT(SUBSTITUTE(J65,":","-"),LEN(SUBSTITUTE(J65,":","-"))-FIND("-",SUBSTITUTE(J65,":","-")))) -> 8 | M65: =IF(OR(O65="",ISNUMBER(IFERROR(SEARCH("special",O65),""))),0,1) -> 1 | N65: Group | O65: Qualifier Group Stage | P65: Loss | Q65: =IF(OR(O65="",P65=""),"",SUMIFS('1. Points System'!$E$3:$E$24,'1. Points System'!$C$3:$C$24,O65,'1. Points System'!$D$3:$D$24,P65)) -> 0 | S65: =Q65 -> 0 | T65: =S65/2 -> 0 | U65: =MasterDataTbl[[#This Row],[2026 Total Points]]+(MasterDataTbl[[#This Row],[Goal Difference]]/1000) -> -0.002
A66: 2026 EWCL | B66: Rostock | C66: Isparta | D66: 26_RS_G03 | E66: Füchse Berlin – Isparta 6-8 | F66: =IF($I66="","",IF(TRIM(SUBSTITUTE($C66,CHAR(160)," "))=TRIM(SUBSTITUTE($I66,CHAR(160)," ")),$K66,$L66)) -> 8 | G66: =IF($I66="","",IF(TRIM(SUBSTITUTE($C66,CHAR(160)," "))=TRIM(SUBSTITUTE($I66,CHAR(160)," ")),$L66,$K66)) -> 6 | H66: =F66-G66 -> 2 | I66: =TRIM(LEFT(E66,FIND(" – ",E66)-1)) -> Füchse Berlin | J66: {=TRIM(RIGHT(E66,LEN(E66)-LOOKUP(2,1/(MID(E66,ROW($1:$60),1)=" "),ROW($1:$60))))} -> 6-8 | K66: =VALUE(LEFT(J66,FIND("-",SUBSTITUTE(J66,":","-"))-1)) -> 6 | L66: =VALUE(RIGHT(SUBSTITUTE(J66,":","-"),LEN(SUBSTITUTE(J66,":","-"))-FIND("-",SUBSTITUTE(J66,":","-")))) -> 8 | M66: =IF(OR(O66="",ISNUMBER(IFERROR(SEARCH("special",O66),""))),0,1) -> 1 | N66: Group | O66: Qualifier Group Stage | P66: Win | Q66: =IF(OR(O66="",P66=""),"",SUMIFS('1. Points System'!$E$3:$E$24,'1. Points System'!$C$3:$C$24,O66,'1. Points System'!$D$3:$D$24,P66)) -> 3 | S66: =Q66 -> 3 | T66: =S66/2 -> 1.5 | U66: =MasterDataTbl[[#This Row],[2026 Total Points]]+(MasterDataTbl[[#This Row],[Goal Difference]]/1000) -> 3.002
A67: 2026 EWCL | B67: Rostock | C67: Old Power | D67: 26_RS_G04 | E67: Old Power – USV Hercules 8-5 | F67: =IF($I67="","",IF(TRIM(SUBSTITUTE($C67,CHAR(160)," "))=TRIM(SUBSTITUTE($I67,CHAR(160)," ")),$K67,$L67)) -> 8 | G67: =IF($I67="","",IF(TRIM(SUBSTITUTE($C67,CHAR(160)," "))=TRIM(SUBSTITUTE($I67,CHAR(160)," ")),$L67,$K67)) -> 5 | H67: =F67-G67 -> 3 | I67: =TRIM(LEFT(E67,FIND(" – ",E67)-1)) -> Old Power | J67: {=TRIM(RIGHT(E67,LEN(E67)-LOOKUP(2,1/(MID(E67,ROW($1:$60),1)=" "),ROW($1:$60))))} -> 8-5 | K67: =VALUE(LEFT(J67,FIND("-",SUBSTITUTE(J67,":","-"))-1)) -> 8 | L67: =VALUE(RIGHT(SUBSTITUTE(J67,":","-"),LEN(SUBSTITUTE(J67,":","-"))-FIND("-",SUBSTITUTE(J67,":","-")))) -> 5 | M67: =IF(OR(O67="",ISNUMBER(IFERROR(SEARCH("special",O67),""))),0,1) -> 1 | N67: Group | O67: Qualifier Group Stage | P67: Win | Q67: =IF(OR(O67="",P67=""),"",SUMIFS('1. Points System'!$E$3:$E$24,'1. Points System'!$C$3:$C$24,O67,'1. Points System'!$D$3:$D$24,P67)) -> 3 | S67: =Q67 -> 3 | T67: =S67/2 -> 1.5 | U67: =MasterDataTbl[[#This Row],[2026 Total Points]]+(MasterDataTbl[[#This Row],[Goal Difference]]/1000) -> 3.003
A68: 2026 EWCL | B68: Rostock | C68: USV Hercules | D68: 26_RS_G04 | E68: Old Power – USV Hercules 8-5 | F68: =IF($I68="","",IF(TRIM(SUBSTITUTE($C68,CHAR(160)," "))=TRIM(SUBSTITUTE($I68,CHAR(160)," ")),$K68,$L68)) -> 5 | G68: =IF($I68="","",IF(TRIM(SUBSTITUTE($C68,CHAR(160)," "))=TRIM(SUBSTITUTE($I68,CHAR(160)," ")),$L68,$K68)) -> 8 | H68: =F68-G68 -> -3 | I68: =TRIM(LEFT(E68,FIND(" – ",E68)-1)) -> Old Power | J68: {=TRIM(RIGHT(E68,LEN(E68)-LOOKUP(2,1/(MID(E68,ROW($1:$60),1)=" "),ROW($1:$60))))} -> 8-5 | K68: =VALUE(LEFT(J68,FIND("-",SUBSTITUTE(J68,":","-"))-1)) -> 8 | L68: =VALUE(RIGHT(SUBSTITUTE(J68,":","-"),LEN(SUBSTITUTE(J68,":","-"))-FIND("-",SUBSTITUTE(J68,":","-")))) -> 5 | M68: =IF(OR(O68="",ISNUMBER(IFERROR(SEARCH("special",O68),""))),0,1) -> 1 | N68: Group | O68: Qualifier Group Stage | P68: Loss | Q68: =IF(OR(O68="",P68=""),"",SUMIFS('1. Points System'!$E$3:$E$24,'1. Points System'!$C$3:$C$24,O68,'1. Points System'!$D$3:$D$24,P68)) -> 0 | S68: =Q68 -> 0 | T68: =S68/2 -> 0 | U68: =MasterDataTbl[[#This Row],[2026 Total Points]]+(MasterDataTbl[[#This Row],[Goal Difference]]/1000) -> -0.003
A69: 2026 EWCL | B69: Rostock | C69: RGC Hansa | D69: 26_RS_G05 | E69: RGC Hansa – FIFH Malmo 7-4 | F69: =IF($I69="","",IF(TRIM(SUBSTITUTE($C69,CHAR(160)," "))=TRIM(SUBSTITUTE($I69,CHAR(160)," ")),$K69,$L69)) -> 7 | G69: =IF($I69="","",IF(TRIM(SUBSTITUTE($C69,CHAR(160)," "))=TRIM(SUBSTITUTE($I69,CHAR(160)," ")),$L69,$K69)) -> 4 | H69: =F69-G69 -> 3 | I69: =TRIM(LEFT(E69,FIND(" – ",E69)-1)) -> RGC Hansa | J69: {=TRIM(RIGHT(E69,LEN(E69)-LOOKUP(2,1/(MID(E69,ROW($1:$60),1)=" "),ROW($1:$60))))} -> 7-4 | K69: =VALUE(LEFT(J69,FIND("-",SUBSTITUTE(J69,":","-"))-1)) -> 7 | L69: =VALUE(RIGHT(SUBSTITUTE(J69,":","-"),LEN(SUBSTITUTE(J69,":","-"))-FIND("-",SUBSTITUTE(J69,":","-")))) -> 4 | M69: =IF(OR(O69="",ISNUMBER(IFERROR(SEARCH("special",O69),""))),0,1) -> 1 | N69: Group | O69: Qualifier Group Stage | P69: Win | Q69: =IF(OR(O69="",P69=""),"",SUMIFS('1. Points System'!$E$3:$E$24,'1. Points System'!$C$3:$C$24,O69,'1. Points System'!$D$3:$D$24,P69)) -> 3 | S69: =Q69 -> 3 | T69: =S69/2 -> 1.5 | U69: =MasterDataTbl[[#This Row],[2026 Total Points]]+(MasterDataTbl[[#This Row],[Goal Difference]]/1000) -> 3.003
A70: 2026 EWCL | B70: Rostock | C70: FIFH Malmo | D70: 26_RS_G05 | E70: RGC Hansa – FIFH Malmo 7-4 | F70: =IF($I70="","",IF(TRIM(SUBSTITUTE($C70,CHAR(160)," "))=TRIM(SUBSTITUTE($I70,CHAR(160)," ")),$K70,$L70)) -> 4 | G70: =IF($I70="","",IF(TRIM(SUBSTITUTE($C70,CHAR(160)," "))=TRIM(SUBSTITUTE($I70,CHAR(160)," ")),$L70,$K70)) -> 7 | H70: =F70-G70 -> -3 | I70: =TRIM(LEFT(E70,FIND(" – ",E70)-1)) -> RGC Hansa | J70: {=TRIM(RIGHT(E70,LEN(E70)-LOOKUP(2,1/(MID(E70,ROW($1:$60),1)=" "),ROW($1:$60))))} -> 7-4 | K70: =VALUE(LEFT(J70,FIND("-",SUBSTITUTE(J70,":","-"))-1)) -> 7 | L70: =VALUE(RIGHT(SUBSTITUTE(J70,":","-"),LEN(SUBSTITUTE(J70,":","-"))-FIND("-",SUBSTITUTE(J70,":","-")))) -> 4 | M70: =IF(OR(O70="",ISNUMBER(IFERROR(SEARCH("special",O70),""))),0,1) -> 1 | N70: Group | O70: Qualifier Group Stage | P70: Loss | Q70: =IF(OR(O70="",P70=""),"",SUMIFS('1. Points System'!$E$3:$E$24,'1. Points System'!$C$3:$C$24,O70,'1. Points System'!$D$3:$D$24,P70)) -> 0 | S70: =Q70 -> 0 | T70: =S70/2 -> 0 | U70: =MasterDataTbl[[#This Row],[2026 Total Points]]+(MasterDataTbl[[#This Row],[Goal Difference]]/1000) -> -0.003
A71: 2026 EWCL | B71: Rostock | C71: GC Golden Flash | D71: 26_RS_G06 | E71: GC Golden Flash – Kahramanmaras 2-7 | F71: =IF($I71="","",IF(TRIM(SUBSTITUTE($C71,CHAR(160)," "))=TRIM(SUBSTITUTE($I71,CHAR(160)," ")),$K71,$L71)) -> 2 | G71: =IF($I71="","",IF(TRIM(SUBSTITUTE($C71,CHAR(160)," "))=TRIM(SUBSTITUTE($I71,CHAR(160)," ")),$L71,$K71)) -> 7 | H71: =F71-G71 -> -5 | I71: GC Golden Flash | J71: {=TRIM(RIGHT(E71,LEN(E71)-LOOKUP(2,1/(MID(E71,ROW($1:$60),1)=" "),ROW($1:$60))))} -> 2-7 | K71: =VALUE(LEFT(J71,FIND("-",SUBSTITUTE(J71,":","-"))-1)) -> 2 | L71: =VALUE(RIGHT(SUBSTITUTE(J71,":","-"),LEN(SUBSTITUTE(J71,":","-"))-FIND("-",SUBSTITUTE(J71,":","-")))) -> 7 | M71: =IF(OR(O71="",ISNUMBER(IFERROR(SEARCH("special",O71),""))),0,1) -> 1 | N71: Group | O71: Qualifier Group Stage | P71: Loss | Q71: =IF(OR(O71="",P71=""),"",SUMIFS('1. Points System'!$E$3:$E$24,'1. Points System'!$C$3:$C$24,O71,'1. Points System'!$D$3:$D$24,P71)) -> 0 | S71: =Q71 -> 0 | T71: =S71/2 -> 0 | U71: =MasterDataTbl[[#This Row],[2026 Total Points]]+(MasterDataTbl[[#This Row],[Goal Difference]]/1000) -> -0.005
A72: 2026 EWCL | B72: Rostock | C72: Kahramanmaras | D72: 26_RS_G06 | E72: GC Golden Flash – Kahramanmaras 2-7 | F72: =IF($I72="","",IF(TRIM(SUBSTITUTE($C72,CHAR(160)," "))=TRIM(SUBSTITUTE($I72,CHAR(160)," ")),$K72,$L72)) -> 7 | G72: =IF($I72="","",IF(TRIM(SUBSTITUTE($C72,CHAR(160)," "))=TRIM(SUBSTITUTE($I72,CHAR(160)," ")),$L72,$K72)) -> 2 | H72: =F72-G72 -> 5 | I72: GC Golden Flash | J72: {=TRIM(RIGHT(E72,LEN(E72)-LOOKUP(2,1/(MID(E72,ROW($1:$60),1)=" "),ROW($1:$60))))} -> 2-7 | K72: =VALUE(LEFT(J72,FIND("-",SUBSTITUTE(J72,":","-"))-1)) -> 2 | L72: =VALUE(RIGHT(SUBSTITUTE(J72,":","-"),LEN(SUBSTITUTE(J72,":","-"))-FIND("-",SUBSTITUTE(J72,":","-")))) -> 7 | M72: =IF(OR(O72="",ISNUMBER(IFERROR(SEARCH("special",O72),""))),0,1) -> 1 | N72: Group | O72: Qualifier Group Stage | P72: Win | Q72: =IF(OR(O72="",P72=""),"",SUMIFS('1. Points System'!$E$3:$E$24,'1. Points System'!$C$3:$C$24,O72,'1. Points System'!$D$3:$D$24,P72)) -> 3 | S72: =Q72 -> 3 | T72: =S72/2 -> 1.5 | U72: =MasterDataTbl[[#This Row],[2026 Total Points]]+(MasterDataTbl[[#This Row],[Goal Difference]]/1000) -> 3.005
A73: 2026 EWCL | B73: Rostock | C73: USV Hercules | D73: 26_RS_G07 | E73: USV Hercules – Füchse Berlin 8-3 | F73: =IF($I73="","",IF(TRIM(SUBSTITUTE($C73,CHAR(160)," "))=TRIM(SUBSTITUTE($I73,CHAR(160)," ")),$K73,$L73)) -> 8 | G73: =IF($I73="","",IF(TRIM(SUBSTITUTE($C73,CHAR(160)," "))=TRIM(SUBSTITUTE($I73,CHAR(160)," ")),$L73,$K73)) -> 3 | H73: =F73-G73 -> 5 | I73: =TRIM(LEFT(E73,FIND(" – ",E73)-1)) -> USV Hercules | J73: {=TRIM(RIGHT(E73,LEN(E73)-LOOKUP(2,1/(MID(E73,ROW($1:$60),1)=" "),ROW($1:$60))))} -> 8-3 | K73: =VALUE(LEFT(J73,FIND("-",SUBSTITUTE(J73,":","-"))-1)) -> 8 | L73: =VALUE(RIGHT(SUBSTITUTE(J73,":","-"),LEN(SUBSTITUTE(J73,":","-"))-FIND("-",SUBSTITUTE(J73,":","-")))) -> 3 | M73: =IF(OR(O73="",ISNUMBER(IFERROR(SEARCH("special",O73),""))),0,1) -> 1 | N73: Group | O73: Qualifier Group Stage | P73: Win | Q73: =IF(OR(O73="",P73=""),"",SUMIFS('1. Points System'!$E$3:$E$24,'1. Points System'!$C$3:$C$24,O73,'1. Points System'!$D$3:$D$24,P73)) -> 3 | S73: =Q73 -> 3 | T73: =S73/2 -> 1.5 | U73: =MasterDataTbl[[#This Row],[2026 Total Points]]+(MasterDataTbl[[#This Row],[Goal Difference]]/1000) -> 3.005
A74: 2026 EWCL | B74: Rostock | C74: Füchse Berlin | D74: 26_RS_G07 | E74: USV Hercules – Füchse Berlin 8-3 | F74: =IF($I74="","",IF(TRIM(SUBSTITUTE($C74,CHAR(160)," "))=TRIM(SUBSTITUTE($I74,CHAR(160)," ")),$K74,$L74)) -> 3 | G74: =IF($I74="","",IF(TRIM(SUBSTITUTE($C74,CHAR(160)," "))=TRIM(SUBSTITUTE($I74,CHAR(160)," ")),$L74,$K74)) -> 8 | H74: =F74-G74 -> -5 | I74: =TRIM(LEFT(E74,FIND(" – ",E74)-1)) -> USV Hercules | J74: {=TRIM(RIGHT(E74,LEN(E74)-LOOKUP(2,1/(MID(E74,ROW($1:$60),1)=" "),ROW($1:$60))))} -> 8-3 | K74: =VALUE(LEFT(J74,FIND("-",SUBSTITUTE(J74,":","-"))-1)) -> 8 | L74: =VALUE(RIGHT(SUBSTITUTE(J74,":","-"),LEN(SUBSTITUTE(J74,":","-"))-FIND("-",SUBSTITUTE(J74,":","-")))) -> 3 | M74: =IF(OR(O74="",ISNUMBER(IFERROR(SEARCH("special",O74),""))),0,1) -> 1 | N74: Group | O74: Qualifier Group Stage | P74: Loss | Q74: =IF(OR(O74="",P74=""),"",SUMIFS('1. Points System'!$E$3:$E$24,'1. Points System'!$C$3:$C$24,O74,'1. Points System'!$D$3:$D$24,P74)) -> 0 | S74: =Q74 -> 0 | T74: =S74/2 -> 0 | U74: =MasterDataTbl[[#This Row],[2026 Total Points]]+(MasterDataTbl[[#This Row],[Goal Difference]]/1000) -> -0.005
A75: 2026 EWCL | B75: Rostock | C75: Isparta | D75: 26_RS_G08 | E75: Isparta – Old Power 5-10 | F75: =IF($I75="","",IF(TRIM(SUBSTITUTE($C75,CHAR(160)," "))=TRIM(SUBSTITUTE($I75,CHAR(160)," ")),$K75,$L75)) -> 5 | G75: =IF($I75="","",IF(TRIM(SUBSTITUTE($C75,CHAR(160)," "))=TRIM(SUBSTITUTE($I75,CHAR(160)," ")),$L75,$K75)) -> 10 | H75: =F75-G75 -> -5 | I75: =TRIM(LEFT(E75,FIND(" – ",E75)-1)) -> Isparta | J75: {=TRIM(RIGHT(E75,LEN(E75)-LOOKUP(2,1/(MID(E75,ROW($1:$60),1)=" "),ROW($1:$60))))} -> 5-10 | K75: =VALUE(LEFT(J75,FIND("-",SUBSTITUTE(J75,":","-"))-1)) -> 5 | L75: =VALUE(RIGHT(SUBSTITUTE(J75,":","-"),LEN(SUBSTITUTE(J75,":","-"))-FIND("-",SUBSTITUTE(J75,":","-")))) -> 10 | M75: =IF(OR(O75="",ISNUMBER(IFERROR(SEARCH("special",O75),""))),0,1) -> 1 | N75: Group | O75: Qualifier Group Stage | P75: Loss | Q75: =IF(OR(O75="",P75=""),"",SUMIFS('1. Points System'!$E$3:$E$24,'1. Points System'!$C$3:$C$24,O75,'1. Points System'!$D$3:$D$24,P75)) -> 0 | S75: =Q75 -> 0 | T75: =S75/2 -> 0 | U75: =MasterDataTbl[[#This Row],[2026 Total Points]]+(MasterDataTbl[[#This Row],[Goal Difference]]/1000) -> -0.005
A76: 2026 EWCL | B76: Rostock | C76: Old Power | D76: 26_RS_G08 | E76: Isparta – Old Power 5-10 | F76: =IF($I76="","",IF(TRIM(SUBSTITUTE($C76,CHAR(160)," "))=TRIM(SUBSTITUTE($I76,CHAR(160)," ")),$K76,$L76)) -> 10 | G76: =IF($I76="","",IF(TRIM(SUBSTITUTE($C76,CHAR(160)," "))=TRIM(SUBSTITUTE($I76,CHAR(160)," ")),$L76,$K76)) -> 5 | H76: =F76-G76 -> 5 | I76: =TRIM(LEFT(E76,FIND(" – ",E76)-1)) -> Isparta | J76: {=TRIM(RIGHT(E76,LEN(E76)-LOOKUP(2,1/(MID(E76,ROW($1:$60),1)=" "),ROW($1:$60))))} -> 5-10 | K76: =VALUE(LEFT(J76,FIND("-",SUBSTITUTE(J76,":","-"))-1)) -> 5 | L76: =VALUE(RIGHT(SUBSTITUTE(J76,":","-"),LEN(SUBSTITUTE(J76,":","-"))-FIND("-",SUBSTITUTE(J76,":","-")))) -> 10 | M76: =IF(OR(O76="",ISNUMBER(IFERROR(SEARCH("special",O76),""))),0,1) -> 1 | N76: Group | O76: Qualifier Group Stage | P76: Win | Q76: =IF(OR(O76="",P76=""),"",SUMIFS('1. Points System'!$E$3:$E$24,'1. Points System'!$C$3:$C$24,O76,'1. Points System'!$D$3:$D$24,P76)) -> 3 | S76: =Q76 -> 3 | T76: =S76/2 -> 1.5 | U76: =MasterDataTbl[[#This Row],[2026 Total Points]]+(MasterDataTbl[[#This Row],[Goal Difference]]/1000) -> 3.005
A77: 2026 EWCL | B77: Rostock | C77: RGC Hansa | D77: 26_RS_G09 | E77: RGC Hansa – GC Golden Flash 4-3 | F77: =IF($I77="","",IF(TRIM(SUBSTITUTE($C77,CHAR(160)," "))=TRIM(SUBSTITUTE($I77,CHAR(160)," ")),$K77,$L77)) -> 4 | G77: =IF($I77="","",IF(TRIM(SUBSTITUTE($C77,CHAR(160)," "))=TRIM(SUBSTITUTE($I77,CHAR(160)," ")),$L77,$K77)) -> 3 | H77: =F77-G77 -> 1 | I77: =TRIM(LEFT(E77,FIND(" – ",E77)-1)) -> RGC Hansa | J77: {=TRIM(RIGHT(E77,LEN(E77)-LOOKUP(2,1/(MID(E77,ROW($1:$60),1)=" "),ROW($1:$60))))} -> 4-3 | K77: =VALUE(LEFT(J77,FIND("-",SUBSTITUTE(J77,":","-"))-1)) -> 4 | L77: =VALUE(RIGHT(SUBSTITUTE(J77,":","-"),LEN(SUBSTITUTE(J77,":","-"))-FIND("-",SUBSTITUTE(J77,":","-")))) -> 3 | M77: =IF(OR(O77="",ISNUMBER(IFERROR(SEARCH("special",O77),""))),0,1) -> 1 | N77: Group | O77: Qualifier Group Stage | P77: Win | Q77: =IF(OR(O77="",P77=""),"",SUMIFS('1. Points System'!$E$3:$E$24,'1. Points System'!$C$3:$C$24,O77,'1. Points System'!$D$3:$D$24,P77)) -> 3 | S77: =Q77 -> 3 | T77: =S77/2 -> 1.5 | U77: =MasterDataTbl[[#This Row],[2026 Total Points]]+(MasterDataTbl[[#This Row],[Goal Difference]]/1000) -> 3.001
A78: 2026 EWCL | B78: Rostock | C78: GC Golden Flash | D78: 26_RS_G09 | E78: RGC Hansa – GC Golden Flash 4-3 | F78: =IF($I78="","",IF(TRIM(SUBSTITUTE($C78,CHAR(160)," "))=TRIM(SUBSTITUTE($I78,CHAR(160)," ")),$K78,$L78)) -> 3 | G78: =IF($I78="","",IF(TRIM(SUBSTITUTE($C78,CHAR(160)," "))=TRIM(SUBSTITUTE($I78,CHAR(160)," ")),$L78,$K78)) -> 4 | H78: =F78-G78 -> -1 | I78: =TRIM(LEFT(E78,FIND(" – ",E78)-1)) -> RGC Hansa | J78: {=TRIM(RIGHT(E78,LEN(E78)-LOOKUP(2,1/(MID(E78,ROW($1:$60),1)=" "),ROW($1:$60))))} -> 4-3 | K78: =VALUE(LEFT(J78,FIND("-",SUBSTITUTE(J78,":","-"))-1)) -> 4 | L78: =VALUE(RIGHT(SUBSTITUTE(J78,":","-"),LEN(SUBSTITUTE(J78,":","-"))-FIND("-",SUBSTITUTE(J78,":","-")))) -> 3 | M78: =IF(OR(O78="",ISNUMBER(IFERROR(SEARCH("special",O78),""))),0,1) -> 1 | N78: Group | O78: Qualifier Group Stage | P78: Loss | Q78: =IF(OR(O78="",P78=""),"",SUMIFS('1. Points System'!$E$3:$E$24,'1. Points System'!$C$3:$C$24,O78,'1. Points System'!$D$3:$D$24,P78)) -> 0 | S78: =Q78 -> 0 | T78: =S78/2 -> 0 | U78: =MasterDataTbl[[#This Row],[2026 Total Points]]+(MasterDataTbl[[#This Row],[Goal Difference]]/1000) -> -0.001
A79: 2026 EWCL | B79: Rostock | C79: FIFH Malmo | D79: 26_RS_G10 | E79: FIFH Malmo – Kahramanmaras 5-9 | F79: =IF($I79="","",IF(TRIM(SUBSTITUTE($C79,CHAR(160)," "))=TRIM(SUBSTITUTE($I79,CHAR(160)," ")),$K79,$L79)) -> 5 | G79: =IF($I79="","",IF(TRIM(SUBSTITUTE($C79,CHAR(160)," "))=TRIM(SUBSTITUTE($I79,CHAR(160)," ")),$L79,$K79)) -> 9 | H79: =F79-G79 -> -4 | I79: =TRIM(LEFT(E79,FIND(" – ",E79)-1)) -> FIFH Malmo | J79: {=TRIM(RIGHT(E79,LEN(E79)-LOOKUP(2,1/(MID(E79,ROW($1:$60),1)=" "),ROW($1:$60))))} -> 5-9 | K79: =VALUE(LEFT(J79,FIND("-",SUBSTITUTE(J79,":","-"))-1)) -> 5 | L79: =VALUE(RIGHT(SUBSTITUTE(J79,":","-"),LEN(SUBSTITUTE(J79,":","-"))-FIND("-",SUBSTITUTE(J79,":","-")))) -> 9 | M79: =IF(OR(O79="",ISNUMBER(IFERROR(SEARCH("special",O79),""))),0,1) -> 1 | N79: Group | O79: Qualifier Group Stage | P79: Loss | Q79: =IF(OR(O79="",P79=""),"",SUMIFS('1. Points System'!$E$3:$E$24,'1. Points System'!$C$3:$C$24,O79,'1. Points System'!$D$3:$D$24,P79)) -> 0 | S79: =Q79 -> 0 | T79: =S79/2 -> 0 | U79: =MasterDataTbl[[#This Row],[2026 Total Points]]+(MasterDataTbl[[#This Row],[Goal Difference]]/1000) -> -0.004
A80: 2026 EWCL | B80: Rostock | C80: Kahramanmaras | D80: 26_RS_G10 | E80: FIFH Malmo – Kahramanmaras 5-9 | F80: =IF($I80="","",IF(TRIM(SUBSTITUTE($C80,CHAR(160)," "))=TRIM(SUBSTITUTE($I80,CHAR(160)," ")),$K80,$L80)) -> 9 | G80: =IF($I80="","",IF(TRIM(SUBSTITUTE($C80,CHAR(160)," "))=TRIM(SUBSTITUTE($I80,CHAR(160)," ")),$L80,$K80)) -> 5 | H80: =F80-G80 -> 4 | I80: =TRIM(LEFT(E80,FIND(" – ",E80)-1)) -> FIFH Malmo | J80: {=TRIM(RIGHT(E80,LEN(E80)-LOOKUP(2,1/(MID(E80,ROW($1:$60),1)=" "),ROW($1:$60))))} -> 5-9 | K80: =VALUE(LEFT(J80,FIND("-",SUBSTITUTE(J80,":","-"))-1)) -> 5 | L80: =VALUE(RIGHT(SUBSTITUTE(J80,":","-"),LEN(SUBSTITUTE(J80,":","-"))-FIND("-",SUBSTITUTE(J80,":","-")))) -> 9 | M80: =IF(OR(O80="",ISNUMBER(IFERROR(SEARCH("special",O80),""))),0,1) -> 1 | N80: Group | O80: Qualifier Group Stage | P80: Win | Q80: =IF(OR(O80="",P80=""),"",SUMIFS('1. Points System'!$E$3:$E$24,'1. Points System'!$C$3:$C$24,O80,'1. Points System'!$D$3:$D$24,P80)) -> 3 | S80: =Q80 -> 3 | T80: =S80/2 -> 1.5 | U80: =MasterDataTbl[[#This Row],[2026 Total Points]]+(MasterDataTbl[[#This Row],[Goal Difference]]/1000) -> 3.004
A81: 2026 EWCL | B81: Rostock | C81: USV Hercules | D81: 26_RS_G11 | E81: USV Hercules – Isparta 4-5 | F81: =IF($I81="","",IF(TRIM(SUBSTITUTE($C81,CHAR(160)," "))=TRIM(SUBSTITUTE($I81,CHAR(160)," ")),$K81,$L81)) -> 4 | G81: =IF($I81="","",IF(TRIM(SUBSTITUTE($C81,CHAR(160)," "))=TRIM(SUBSTITUTE($I81,CHAR(160)," ")),$L81,$K81)) -> 5 | H81: =F81-G81 -> -1 | I81: =TRIM(LEFT(E81,FIND(" – ",E81)-1)) -> USV Hercules | J81: {=TRIM(RIGHT(E81,LEN(E81)-LOOKUP(2,1/(MID(E81,ROW($1:$60),1)=" "),ROW($1:$60))))} -> 4-5 | K81: =VALUE(LEFT(J81,FIND("-",SUBSTITUTE(J81,":","-"))-1)) -> 4 | L81: =VALUE(RIGHT(SUBSTITUTE(J81,":","-"),LEN(SUBSTITUTE(J81,":","-"))-FIND("-",SUBSTITUTE(J81,":","-")))) -> 5 | M81: =IF(OR(O81="",ISNUMBER(IFERROR(SEARCH("special",O81),""))),0,1) -> 1 | N81: Group | O81: Qualifier Group Stage | P81: Loss | Q81: =IF(OR(O81="",P81=""),"",SUMIFS('1. Points System'!$E$3:$E$24,'1. Points System'!$C$3:$C$24,O81,'1. Points System'!$D$3:$D$24,P81)) -> 0 | S81: =Q81 -> 0 | T81: =S81/2 -> 0 | U81: =MasterDataTbl[[#This Row],[2026 Total Points]]+(MasterDataTbl[[#This Row],[Goal Difference]]/1000) -> -0.001
A82: 2026 EWCL | B82: Rostock | C82: Isparta | D82: 26_RS_G11 | E82: USV Hercules – Isparta 4-5 | F82: =IF($I82="","",IF(TRIM(SUBSTITUTE($C82,CHAR(160)," "))=TRIM(SUBSTITUTE($I82,CHAR(160)," ")),$K82,$L82)) -> 5 | G82: =IF($I82="","",IF(TRIM(SUBSTITUTE($C82,CHAR(160)," "))=TRIM(SUBSTITUTE($I82,CHAR(160)," ")),$L82,$K82)) -> 4 | H82: =F82-G82 -> 1 | I82: =TRIM(LEFT(E82,FIND(" – ",E82)-1)) -> USV Hercules | J82: {=TRIM(RIGHT(E82,LEN(E82)-LOOKUP(2,1/(MID(E82,ROW($1:$60),1)=" "),ROW($1:$60))))} -> 4-5 | K82: =VALUE(LEFT(J82,FIND("-",SUBSTITUTE(J82,":","-"))-1)) -> 4 | L82: =VALUE(RIGHT(SUBSTITUTE(J82,":","-"),LEN(SUBSTITUTE(J82,":","-"))-FIND("-",SUBSTITUTE(J82,":","-")))) -> 5 | M82: =IF(OR(O82="",ISNUMBER(IFERROR(SEARCH("special",O82),""))),0,1) -> 1 | N82: Group | O82: Qualifier Group Stage | P82: Win | Q82: =IF(OR(O82="",P82=""),"",SUMIFS('1. Points System'!$E$3:$E$24,'1. Points System'!$C$3:$C$24,O82,'1. Points System'!$D$3:$D$24,P82)) -> 3 | S82: =Q82 -> 3 | T82: =S82/2 -> 1.5 | U82: =MasterDataTbl[[#This Row],[2026 Total Points]]+(MasterDataTbl[[#This Row],[Goal Difference]]/1000) -> 3.001
A83: 2026 EWCL | B83: Rostock | C83: Füchse Berlin | D83: 26_RS_G12 | E83: Füchse Berlin – Old Power 0-10 | F83: =IF($I83="","",IF(TRIM(SUBSTITUTE($C83,CHAR(160)," "))=TRIM(SUBSTITUTE($I83,CHAR(160)," ")),$K83,$L83)) -> 0 | G83: =IF($I83="","",IF(TRIM(SUBSTITUTE($C83,CHAR(160)," "))=TRIM(SUBSTITUTE($I83,CHAR(160)," ")),$L83,$K83)) -> 10 | H83: =F83-G83 -> -10 | I83: =TRIM(LEFT(E83,FIND(" – ",E83)-1)) -> Füchse Berlin | J83: {=TRIM(RIGHT(E83,LEN(E83)-LOOKUP(2,1/(MID(E83,ROW($1:$60),1)=" "),ROW($1:$60))))} -> 0-10 | K83: =VALUE(LEFT(J83,FIND("-",SUBSTITUTE(J83,":","-"))-1)) -> 0 | L83: =VALUE(RIGHT(SUBSTITUTE(J83,":","-"),LEN(SUBSTITUTE(J83,":","-"))-FIND("-",SUBSTITUTE(J83,":","-")))) -> 10 | M83: =IF(OR(O83="",ISNUMBER(IFERROR(SEARCH("special",O83),""))),0,1) -> 1 | N83: Group | O83: Qualifier Group Stage | P83: Loss | Q83: =IF(OR(O83="",P83=""),"",SUMIFS('1. Points System'!$E$3:$E$24,'1. Points System'!$C$3:$C$24,O83,'1. Points System'!$D$3:$D$24,P83)) -> 0 | S83: =Q83 -> 0 | T83: =S83/2 -> 0 | U83: =MasterDataTbl[[#This Row],[2026 Total Points]]+(MasterDataTbl[[#This Row],[Goal Difference]]/1000) -> -0.01
A84: 2026 EWCL | B84: Rostock | C84: Old Power | D84: 26_RS_G12 | E84: Füchse Berlin – Old Power 0-10 | F84: =IF($I84="","",IF(TRIM(SUBSTITUTE($C84,CHAR(160)," "))=TRIM(SUBSTITUTE($I84,CHAR(160)," ")),$K84,$L84)) -> 10 | G84: =IF($I84="","",IF(TRIM(SUBSTITUTE($C84,CHAR(160)," "))=TRIM(SUBSTITUTE($I84,CHAR(160)," ")),$L84,$K84)) -> 0 | H84: =F84-G84 -> 10 | I84: =TRIM(LEFT(E84,FIND(" – ",E84)-1)) -> Füchse Berlin | J84: {=TRIM(RIGHT(E84,LEN(E84)-LOOKUP(2,1/(MID(E84,ROW($1:$60),1)=" "),ROW($1:$60))))} -> 0-10 | K84: =VALUE(LEFT(J84,FIND("-",SUBSTITUTE(J84,":","-"))-1)) -> 0 | L84: =VALUE(RIGHT(SUBSTITUTE(J84,":","-"),LEN(SUBSTITUTE(J84,":","-"))-FIND("-",SUBSTITUTE(J84,":","-")))) -> 10 | M84: =IF(OR(O84="",ISNUMBER(IFERROR(SEARCH("special",O84),""))),0,1) -> 1 | N84: Group | O84: Qualifier Group Stage | P84: Win | Q84: =IF(OR(O84="",P84=""),"",SUMIFS('1. Points System'!$E$3:$E$24,'1. Points System'!$C$3:$C$24,O84,'1. Points System'!$D$3:$D$24,P84)) -> 3 | S84: =Q84 -> 3 | T84: =S84/2 -> 1.5 | U84: =MasterDataTbl[[#This Row],[2026 Total Points]]+(MasterDataTbl[[#This Row],[Goal Difference]]/1000) -> 3.01
... A108: 2026 EWCL | B108: Rostock | C108: Kahramanmaras | D108: 26_RS_G24 | E108: Old Power – Kahramanmaras 2-1 | F108: =IF($I108="","",IF(TRIM(SUBSTITUTE($C108,CHAR(160)," "))=TRIM(SUBSTITUTE($I108,CHAR(160)," ")),$K108,$L108)) -> 1 | G108: =IF($I108="","",IF(TRIM(SUBSTITUTE($C108,CHAR(160)," "))=TRIM(SUBSTITUTE($I108,CHAR(160)," ")),$L108,$K108)) -> 2 | H108: =F108-G108 -> -1 | I108: =TRIM(LEFT(E108,FIND(" – ",E108)-1)) -> Old Power | J108: {=TRIM(RIGHT(E108,LEN(E108)-LOOKUP(2,1/(MID(E108,ROW($1:$60),1)=" "),ROW($1:$60))))} -> 2-1 | K108: =VALUE(LEFT(J108,FIND("-",SUBSTITUTE(J108,":","-"))-1)) -> 2 | L108: =VALUE(RIGHT(SUBSTITUTE(J108,":","-"),LEN(SUBSTITUTE(J108,":","-"))-FIND("-",SUBSTITUTE(J108,":","-")))) -> 1 | M108: =IF(OR(O108="",ISNUMBER(IFERROR(SEARCH("special",O108),""))),0,1) -> 1 | N108: Medal | O108: Qualifier QF/SF/Medal | P108: Loss | Q108: =IF(OR(O108="",P108=""),"",SUMIFS('1. Points System'!$E$3:$E$24,'1. Points System'!$C$3:$C$24,O108,'1. Points System'!$D$3:$D$24,P108)) -> 0 | S108: =Q108 -> 0 | T108: =S108/2 -> 0 | U108: =MasterDataTbl[[#This Row],[2026 Total Points]]+(MasterDataTbl[[#This Row],[Goal Difference]]/1000) -> -0.001
F109: =IF($I109="","",IF(TRIM(SUBSTITUTE($C109,CHAR(160)," "))=TRIM(SUBSTITUTE($I109,CHAR(160)," ")),$K109,$L109)) | G109: =IF($I109="","",IF(TRIM(SUBSTITUTE($C109,CHAR(160)," "))=TRIM(SUBSTITUTE($I109,CHAR(160)," ")),$L109,$K109)) | Q109: =IF(OR(O109="",P109=""),"",SUMIFS('1. Points System'!$E$3:$E$24,'1. Points System'!$C$3:$C$24,O109,'1. Points System'!$D$3:$D$24,P109)) | S109: =Q109 | T109: =S109/2 -> #VALUE! | U109: =MasterDataTbl[[#This Row],[2026 Total Points]]+(MasterDataTbl[[#This Row],[Goal Difference]]/1000) -> #VALUE!
...

Sheet Tasks
B6: MAKE SURE NAMES AS CONSISTENT (i.e RGC Hansa. Not RGC Hansa Rostock
A8: 1 | B8: Make sure names are consistent with naming conventions (hidden tab)
A9: 2 | B9: Make sure spacings are consistent
A10: 3 | B10: The Ranking Sort Value is really important
A11: 4 | B11: Pivot Table that feeds the ranking table is hidden so needs unhiding and refreshing

Sheet Drop Down Lists
B2: Qualifier Group Stage
B3: Qualifier Placement
B4: Qualifier Placement in OT or Extra Throws
B5: Qualifier QF/SF/Medal
B6: Qualifier QF/SF/Medal in OT or Extra Throws
B7: Finals Group Stage
B8: Finals Placement
B9: Finals Placement in OT or Extra Throws
B10: Finals QF/SF/Medal
B11: Finals QF/SF/Medal in OT or Extra Throws
